BEGIN:VCALENDAR
VERSION:2.0
PRODID:-//wp-events-plugin.com//7.2.3.1//EN
TZID:America/Los_Angeles
X-WR-TIMEZONE:America/Los_Angeles
BEGIN:VEVENT
UID:0-7119@mhm.snowproportal.com
DTSTART;TZID=America/Los_Angeles:20250205T173000
DTEND;TZID=America/Los_Angeles:20250205T183000
DTSTAMP:20250131T214047Z
URL:https://mhm.snowproportal.com/events/telemark-virtual-movement-analysi
 s/
SUMMARY:TELEMARK Virtual Movement Analysis
DESCRIPTION:Join this virtual movement analysis session on Teams for an exp
 loration of video footage of your own skiing\, filmed during our kickoff c
 linic Feb 1. This clinic provides an opportunity to practice performing ob
 servation\, evaluation\, and prescription using PSIA’s movement analysis
  framework.\n\n\n TELEMARK Virtual Movement Analysis – MLC Instructor P
 ortal\n\nRevised time: 5:30 - 7:30 PM (2 hr clinic)\n\nMeeting invite:\n\n
 \n\nMicrosoft Teams\nJoin the meeting now\nMeeting ID: 275 797 522 833\nP
 asscode: KC6kS3UW\nFull text of meeting link:\n\n\nhttps://teams.microsof
 t.com/l/meetup-join/19%3ameeting_NzYzNjc3ZDQtNTAyOC00N2UyLWIwZGItYzNmYjU1N
 2RiOTJi%40thread.v2/0?context=%7b%22Tid%22%3a%2237247798-f42c-42fd-8a37-d4
 9c7128d36b%22%2c%22Oid%22%3a%22e1969518-70bd-4fa8-bb09-0999e17f4647%22%7d\
 nVoluntary clinic.
CATEGORIES:Telemark
LOCATION:Virtual\, PO Box 470\, Mt. Hood\, Oregon\, 97041\, United States
X-APPLE-STRUCTURED-LOCATION;VALUE=URI;X-ADDRESS=PO Box 470\, Mt. Hood\, Ore
 gon\, 97041\, United States;X-APPLE-RADIUS=100;X-TITLE=Virtual:geo:0,0
END:VEVENT
BEGIN:VTIMEZONE
TZID:America/Los_Angeles
X-LIC-LOCATION:America/Los_Angeles
BEGIN:STANDARD
DTSTART:20241103T010000
TZOFFSETFROM:-0700
TZOFFSETTO:-0800
TZNAME:PST
END:STANDARD
END:VTIMEZONE
END:VCALENDAR