BEGIN:VCALENDAR
VERSION:2.0
PRODID:-//wp-events-plugin.com//7.2.3.1//EN
TZID:America/Los_Angeles
X-WR-TIMEZONE:America/Los_Angeles
BEGIN:VEVENT
UID:0-3219@mhm.snowproportal.com
DTSTART;TZID=America/Los_Angeles:20180307T101500
DTEND;TZID=America/Los_Angeles:20180307T151500
DTSTAMP:20180227T214231Z
URL:https://mhm.snowproportal.com/events/robin-kisiel-snowboard-trainers-c
 linic/
SUMMARY:Ride with Robin Kisiel - Snowboard
DESCRIPTION:Great News!  Josey has finally locked in Robin Kisiel to come f
 rom Rocky Mountain Division to come and train with our Snowboard staff.  I
 f you remember\, she is the Training Manager at Breckenridge and an examin
 er from Rocky Mountain Division who will come out and work with our Snowbo
 ard staff on Tuesday March 6 from 10:15am to 12:15pm and from 1:15pm to 3:
 15pm.\n\nCome ready to share and learn from one of the best!\n
CATEGORIES:Snowboard
LOCATION:Program Lesson Room\, 14040 hwy 35\, Mt Hood\, Oregon\, 97041\, Un
 ited States
GEO:45.331998;-121.664575
X-APPLE-STRUCTURED-LOCATION;VALUE=URI;X-ADDRESS=14040 hwy 35\, Mt Hood\, Or
 egon\, 97041\, United States;X-APPLE-RADIUS=100;X-TITLE=Program Lesson Roo
 m:geo:45.331998,-121.664575
END:VEVENT
BEGIN:VTIMEZONE
TZID:America/Los_Angeles
X-LIC-LOCATION:America/Los_Angeles
BEGIN:STANDARD
DTSTART:20171105T010000
TZOFFSETFROM:-0700
TZOFFSETTO:-0800
TZNAME:PST
END:STANDARD
END:VTIMEZONE
END:VCALENDAR