BEGIN:VCALENDAR
VERSION:2.0
PRODID:-//wp-events-plugin.com//7.2.3.1//EN
TZID:America/Los_Angeles
X-WR-TIMEZONE:America/Los_Angeles
BEGIN:VEVENT
UID:96-2366@mhm.snowproportal.com
DTSTART;TZID=America/Los_Angeles:20171118T080000
DTEND;TZID=America/Los_Angeles:20171118T150000
DTSTAMP:20171030T203811Z
URL:https://mhm.snowproportal.com/events/returning-instructor-orientation-
 weekend-option/
SUMMARY:Ski &amp\; Snowboard School Orientation for Returning and New Full 
 Time Instructors - Weekend Option
DESCRIPTION:Save the Date for November 18th - Sign up below!\nIf you are a 
 returning instructor\, an experienced instructor new to Mt. Hood Meadows O
 R a new\, non-experienced Full Time instructor\, then this orientation is 
 for you!\n\n8:00 am – 9:45 am:\nRETURNING STAFF: Human Resources will be
  open for staff to get their uniforms and check I-9 credentials\, you are 
 welcome to come up and do that on your own time before orientation starts.
 \n\nNEW TO MT. HOOD MEADOWS STAFF: Meet in the Children's Learning Center\
 , at the back of the Ski &amp\; Snowboard School sales lobby\, ground leve
 l of the South Lodge\, down the ramp from the 4-way intersection.\n\n10:00
  am – 11:00 am:  Company Orientation\n\n11:00 am – 12:30 pm: Break.
   Some food will be provided and there will be time for you to get your u
 niform if you didn’t do so earlier.\n\n12:30 pm – 3:00 pm: Ski and Sn
 owboard School Orientation\n\nThis is a paid training day and you will be 
 paid for 3.5 hours of MTA. No need to complete a recap\, but you must comp
 lete an attendance sheet in person.\n\nWe hope you will be able to stay fo
 r the Pray for Snow Party that will be held later that evening. There’s
  no better way to Snow Dance into the new season\, than after our captivat
 ing orientation!\n\nPlease note: If you are an experienced part-time instr
 uctor OR a full-time instructor new to Mt. Hood Meadows (experienced or no
 t experienced) you may attend this orientation with our returning instruc
 tors.\n\nNew\, part time\, non-experienced instructors will attend departm
 ent orientations in December - dates TBA after you have completed the on-s
 now training dates.\nSignup to attend orientation\nPlease choose the corre
 ct date below\n\n[gravityform id="60" title="false" description="false" aj
 ax="true"]
LOCATION:Vertical Restaurant\, 14040 hwy 35\, Mt Hood \, Oregon\, 97041\, U
 nited States
GEO:45.33196757705536;-121.66460230630645
X-APPLE-STRUCTURED-LOCATION;VALUE=URI;X-ADDRESS=14040 hwy 35\, Mt Hood \, O
 regon\, 97041\, United States;X-APPLE-RADIUS=100;X-TITLE=Vertical Restaura
 nt:geo:45.33196757705536,-121.66460230630645
END:VEVENT
BEGIN:VTIMEZONE
TZID:America/Los_Angeles
X-LIC-LOCATION:America/Los_Angeles
BEGIN:STANDARD
DTSTART:20171105T010000
TZOFFSETFROM:-0700
TZOFFSETTO:-0800
TZNAME:PST
END:STANDARD
END:VTIMEZONE
END:VCALENDAR