BEGIN:VCALENDAR
VERSION:2.0
PRODID:-//wp-events-plugin.com//7.2.3.1//EN
TZID:America/Los_Angeles
X-WR-TIMEZONE:America/Los_Angeles
BEGIN:VEVENT
UID:0-3264@mhm.snowproportal.com
DTSTART;TZID=America/Los_Angeles:20180414T083000
DTEND;TZID=America/Los_Angeles:20180414T150000
DTSTAMP:20180410T195156Z
URL:https://mhm.snowproportal.com/events/psia-aasi-member-school-clinic-al
 pine-snowboard/
SUMMARY:PSIA-AASI Member School Clinic - Alpine AND Snowboard
DESCRIPTION:If you are a PSIA-AASI Certified Member and need to obtain an e
 ducation credit this year\, then you may attend this clinic to do so. We w
 ill be bringing in a few clinicians from PSIA-NW to lead you on a day of s
 kiing or riding improvement\, teaching ideas and just plain fun!\n\nWhile 
 Mt. Hood Meadows subsidizes the clinic costs by covering the clinician fee
 s\, you will need to pay $50 to receive credit for this clinic on your edu
 cation history with PSIA-AASI.\n\n$30 if you just want to attend the clini
 c without education credit.\n\nThere are 16 Alpine and 8 Snowboard spots a
 vailable.\n\nWrite-ins / Guest Attendees:\nEva G. (alpine)\nStephen Henrik
 son (alpine)
LOCATION:Program Lesson Room\, 14040 hwy 35\, Mt Hood\, Oregon\, 97041\, Un
 ited States
GEO:45.331998;-121.664575
X-APPLE-STRUCTURED-LOCATION;VALUE=URI;X-ADDRESS=14040 hwy 35\, Mt Hood\, Or
 egon\, 97041\, United States;X-APPLE-RADIUS=100;X-TITLE=Program Lesson Roo
 m:geo:45.331998,-121.664575
END:VEVENT
BEGIN:VTIMEZONE
TZID:America/Los_Angeles
X-LIC-LOCATION:America/Los_Angeles
BEGIN:DAYLIGHT
DTSTART:20180311T030000
TZOFFSETFROM:-0800
TZOFFSETTO:-0700
TZNAME:PDT
END:DAYLIGHT
END:VTIMEZONE
END:VCALENDAR