BEGIN:VCALENDAR
VERSION:2.0
PRODID:-//wp-events-plugin.com//7.2.3.1//EN
TZID:America/Los_Angeles
X-WR-TIMEZONE:America/Los_Angeles
BEGIN:VEVENT
UID:0-7492@mhm.snowproportal.com
DTSTART;TZID=America/Los_Angeles;VALUE=DATE:20251129
DTEND;TZID=America/Los_Angeles;VALUE=DATE:20251130
DTSTAMP:20251128T230354Z
URL:https://mhm.snowproportal.com/events/mlc-welcome-home-make-up-day-nov-
 29/
SUMMARY:MLC Welcome Home - Make-up Day - Nov. 29
DESCRIPTION:Welcome Home Make-up Day\nReturning\, Experienced and First-Sea
 son instructors will attend! This is a make-up day if you could not attend
  either 11/12 or 11/15.  You must complete your Dayforce payroll verifica
 tion steps 72 hours in advance of this training day. Details will be sent 
 via email about this important step - so we can pay you!\n\nPlan your day:
 \n\n 	7:30-8:30 -  Returning Instructors: Uniforms and Lockers are at you
 r leisure\n 	8:00AM - Experienced and First-season Instructors - I-9 verif
 ication\n 	8:45AM - ALL INSTRUCTOR - Meet in the Program Room\, Main Level
  of the South Lodge\n 	9:00AM – Module 1\n 	10:00AM – Module 2\n 	11:0
 0AM – Module 3\n 	11:45AM – Wrap up\n 	12PM - Done for the day\n
CATEGORIES:All Disciplines
LOCATION:Program Lesson Room\, 14040 hwy 35\, Mt Hood\, Oregon\, 97041\, Un
 ited States
GEO:45.331998;-121.664575
X-APPLE-STRUCTURED-LOCATION;VALUE=URI;X-ADDRESS=14040 hwy 35\, Mt Hood\, Or
 egon\, 97041\, United States;X-APPLE-RADIUS=100;X-TITLE=Program Lesson Roo
 m:geo:45.331998,-121.664575
END:VEVENT
BEGIN:VTIMEZONE
TZID:America/Los_Angeles
X-LIC-LOCATION:America/Los_Angeles
BEGIN:STANDARD
DTSTART:20251102T010000
TZOFFSETFROM:-0700
TZOFFSETTO:-0800
TZNAME:PST
END:STANDARD
END:VTIMEZONE
END:VCALENDAR