BEGIN:VCALENDAR
VERSION:2.0
PRODID:-//wp-events-plugin.com//7.2.3.1//EN
TZID:America/Los_Angeles
X-WR-TIMEZONE:America/Los_Angeles
BEGIN:VEVENT
UID:0-3091@mhm.snowproportal.com
DTSTART;TZID=America/Los_Angeles:20180318T081500
DTEND;TZID=America/Los_Angeles:20180318T160000
DTSTAMP:20180306T180014Z
URL:https://mhm.snowproportal.com/events/level-i-exam-snowboard-all-day-2/
SUMMARY:Level I Exam - Snowboard - All Day
DESCRIPTION:THERE HAS BEEN SOME CONFUSION ABOUT THE EXAM DATE. MOST PEOPLE 
 ARE PLANNING ON TAKING THE EXAM ON SUNDAY 3/18 BUT SOME THOUGHT IT WAS RES
 CHEDULED TO SATURDAY 3/17. PLEASE CONFIRM PER THE EMAIL SENT REGARDING THE
  EXAM DATE.\n\nSpace is limited to a maximum of 8 people per exam group. Y
 ou must sign up in advance for this exam. In order to participate in the S
 nowboard Level 1 Exam you must complete the prerequisites including:\n\n 	
 Join PSIA-NW &amp\; National at an annual cost of $117\n 	Complete a Seaso
 n’s Training and Teaching Synopsis - see this link:\nLevel I Synopsis (A
 lpine or Snowboard)\n 	Signup for the On-line Level I Professional Knowled
 ge exam - $10\n 	Signup for the On-snow Skiing and Teaching Exam - $20\n\n
 Please ask our training staff if you have specific questions about the pro
 cess. Signing up on the instructor portal does not register you for the ex
 am. You must signup on-line to take both the professional knowledge and on
 -snow portions of the Level I certification exam.\n\nOn-line Written Exam 
 Signup here:\nhttps://lms.thesnowpros.org/written-exams/northwest-professi
 onal-knowledge-exams/\n\nOn-snow Exam Signups here:\nFeb 22 Exam\nhttps://
 www.psia-nw.org/event/snowboard-level-1-on-snow-exam-mt-hood-meadows-4/?in
 stance_id=3204\n\nMarch 10 Exam\nhttps://www.psia-nw.org/event/snowboard-l
 evel-1-on-snow-exam-mt-hood-meadows-5/?instance_id=3206\n\n&nbsp\;
LOCATION:Program Lesson Room\, 14040 hwy 35\, Mt Hood\, Oregon\, 97041\, Un
 ited States
GEO:45.331998;-121.664575
X-APPLE-STRUCTURED-LOCATION;VALUE=URI;X-ADDRESS=14040 hwy 35\, Mt Hood\, Or
 egon\, 97041\, United States;X-APPLE-RADIUS=100;X-TITLE=Program Lesson Roo
 m:geo:45.331998,-121.664575
END:VEVENT
BEGIN:VTIMEZONE
TZID:America/Los_Angeles
X-LIC-LOCATION:America/Los_Angeles
BEGIN:DAYLIGHT
DTSTART:20180311T030000
TZOFFSETFROM:-0800
TZOFFSETTO:-0700
TZNAME:PDT
END:DAYLIGHT
END:VTIMEZONE
END:VCALENDAR