BEGIN:VCALENDAR
VERSION:2.0
PRODID:-//wp-events-plugin.com//7.2.3.1//EN
TZID:America/Los_Angeles
X-WR-TIMEZONE:America/Los_Angeles
BEGIN:VEVENT
UID:0-3090@mhm.snowproportal.com
DTSTART;TZID=America/Los_Angeles:20180318T081500
DTEND;TZID=America/Los_Angeles:20180318T160000
DTSTAMP:20180227T002454Z
URL:https://mhm.snowproportal.com/events/level-i-exam-alpine-all-day-3/
SUMMARY:Level I Exam - Alpine - All Day
DESCRIPTION:Space is limited to a maximum of 8 people per exam group. You m
 ust sign up in advance for this exam. In order to participate in the Alpin
 e Level 1 Exam you must complete the prerequisites including:\n\n 	Join PS
 IA-NW &amp\; National at an annual cost of $117\n 	Complete a Season’s T
 raining and Teaching Synopsis - see this link:\nLevel I Synopsis (Alpine o
 r Snowboard)\n 	Signup for the On-line Level I Professional Knowledge exam
  - $10\n 	Signup for the On-snow Skiing and Teaching Exam - $20\n\nDetails
  about the Level 1 Exam process can be found here:\nhttp://mhm.snowproport
 al.com/training/level-1-exam-info\n\nPlease ask our training staff if you 
 have specific questions about the process. Signing up on the instructor po
 rtal does not register you for the exam. You must signup on-line to take b
 oth the professional knowledge and on-snow portions of the Level I certifi
 cation exam.\n\nOn-line Written Exam Signup here:\nhttps://lms.thesnowpros
 .org/written-exams/northwest-professional-knowledge-exams/\n\nOn-snow Exam
  Signups here:\nFeb 28 Exam\nhttps://www.psia-nw.org/event/alpine-level-1-
 on-snow-exam-mt-hood-meadows-4/?instance_id=3200\n\nMarch 18 Exam\nhttps:/
 /www.psia-nw.org/event/alpine-level-1-on-snow-exam-mt-hood-meadows-5/?inst
 ance_id=3202\n\n&nbsp\;
LOCATION:Program Lesson Room\, 14040 hwy 35\, Mt Hood\, Oregon\, 97041\, Un
 ited States
GEO:45.331998;-121.664575
X-APPLE-STRUCTURED-LOCATION;VALUE=URI;X-ADDRESS=14040 hwy 35\, Mt Hood\, Or
 egon\, 97041\, United States;X-APPLE-RADIUS=100;X-TITLE=Program Lesson Roo
 m:geo:45.331998,-121.664575
END:VEVENT
BEGIN:VTIMEZONE
TZID:America/Los_Angeles
X-LIC-LOCATION:America/Los_Angeles
BEGIN:DAYLIGHT
DTSTART:20180311T030000
TZOFFSETFROM:-0800
TZOFFSETTO:-0700
TZNAME:PDT
END:DAYLIGHT
END:VTIMEZONE
END:VCALENDAR